BEGIN:VCALENDAR
VERSION:2.0
PRODID:-//pretix//pretix-PROD_Wien//
BEGIN:VEVENT
UID:pretix-baeder-hietzing-6221@ticket.wien.gv.at
DTSTART;VALUE=DATE:20210813
DTEND;VALUE=DATE:20210814
DESCRIPTION:Tickets: https://ticket.wien.gv.at/baeder/hietzing/6221/\nVeran
 stalter: MA 44 Wiener Bäder
DTSTAMP:20260426T030923Z
SUMMARY:Eintritt Hietzinger Bad
END:VEVENT
END:VCALENDAR
