BEGIN:VCALENDAR
VERSION:2.0
PRODID:-//pretix//pretix-PROD_Wien//
BEGIN:VEVENT
UID:pretix-baeder-hietzing-6177@ticket.wien.gv.at
DTSTART;VALUE=DATE:20210811
DTEND;VALUE=DATE:20210812
DESCRIPTION:Tickets: https://ticket.wien.gv.at/baeder/hietzing/6177/\nVeran
 stalter: MA 44 Wiener Bäder
DTSTAMP:20260426T041603Z
SUMMARY:Eintritt Hietzinger Bad
END:VEVENT
END:VCALENDAR
