BEGIN:VCALENDAR
VERSION:2.0
PRODID:-//pretix//pretix-PROD_Wien//
BEGIN:VEVENT
UID:pretix-baeder-hietzing-5869@ticket.wien.gv.at
DTSTART;VALUE=DATE:20210728
DTEND;VALUE=DATE:20210729
DESCRIPTION:Tickets: https://ticket.wien.gv.at/baeder/hietzing/5869/\nVeran
 stalter: MA 44 Wiener Bäder
DTSTAMP:20260426T025920Z
SUMMARY:Eintritt Hietzinger Bad
END:VEVENT
END:VCALENDAR
