BEGIN:VCALENDAR
VERSION:2.0
PRODID:-//pretix//pretix-PROD_Wien//
BEGIN:VEVENT
UID:pretix-baeder-hadersdorf-weidlingau-6968@ticket.wien.gv.at
DTSTART;VALUE=DATE:20210916
DTEND;VALUE=DATE:20210917
DESCRIPTION:Tickets: https://ticket.wien.gv.at/baeder/hadersdorf-weidlingau
 /6968/\nVeranstalter: MA 44 Wiener Bäder
DTSTAMP:20260426T035855Z
SUMMARY:Eintritt Hadersdorf-Weidlingauer Bad
END:VEVENT
END:VCALENDAR
