BEGIN:VCALENDAR
VERSION:2.0
PRODID:-//pretix//pretix-PROD_Wien//
BEGIN:VEVENT
UID:pretix-baeder-hadersdorf-weidlingau-6704@ticket.wien.gv.at
DTSTART;VALUE=DATE:20210904
DTEND;VALUE=DATE:20210905
DESCRIPTION:Tickets: https://ticket.wien.gv.at/baeder/hadersdorf-weidlingau
 /6704/\nVeranstalter: MA 44 Wiener Bäder
DTSTAMP:20260425T191059Z
SUMMARY:Eintritt Hadersdorf-Weidlingauer Bad
END:VEVENT
END:VCALENDAR
