BEGIN:VCALENDAR
VERSION:2.0
PRODID:-//pretix//pretix-PROD_Wien//
BEGIN:VEVENT
UID:pretix-baeder-hadersdorf-weidlingau-6220@ticket.wien.gv.at
DTSTART;VALUE=DATE:20210813
DTEND;VALUE=DATE:20210814
DESCRIPTION:Tickets: https://ticket.wien.gv.at/baeder/hadersdorf-weidlingau
 /6220/\nVeranstalter: MA 44 Wiener Bäder
DTSTAMP:20260425T170908Z
SUMMARY:Eintritt Hadersdorf-Weidlingauer Bad
END:VEVENT
END:VCALENDAR
