BEGIN:VCALENDAR
VERSION:2.0
PRODID:-//pretix//pretix-PROD_Wien//
BEGIN:VEVENT
UID:pretix-baeder-hadersdorf-weidlingau-6088@ticket.wien.gv.at
DTSTART;VALUE=DATE:20210807
DTEND;VALUE=DATE:20210808
DESCRIPTION:Tickets: https://ticket.wien.gv.at/baeder/hadersdorf-weidlingau
 /6088/\nVeranstalter: MA 44 Wiener Bäder
DTSTAMP:20260426T003654Z
SUMMARY:Eintritt Hadersdorf-Weidlingauer Bad
END:VEVENT
END:VCALENDAR
