BEGIN:VCALENDAR
VERSION:2.0
PRODID:-//pretix//pretix-PROD_Wien//
BEGIN:VEVENT
UID:pretix-baeder-hadersdorf-weidlingau-5956@ticket.wien.gv.at
DTSTART;VALUE=DATE:20210801
DTEND;VALUE=DATE:20210802
DESCRIPTION:Tickets: https://ticket.wien.gv.at/baeder/hadersdorf-weidlingau
 /5956/\nVeranstalter: MA 44 Wiener Bäder
DTSTAMP:20260426T030838Z
SUMMARY:Eintritt Hadersdorf-Weidlingauer Bad
END:VEVENT
END:VCALENDAR
