BEGIN:VCALENDAR
VERSION:2.0
PRODID:-//pretix//pretix-PROD_Wien//
BEGIN:VEVENT
UID:pretix-baeder-hadersdorf-weidlingau-5845@ticket.wien.gv.at
DTSTART;VALUE=DATE:20210727
DTEND;VALUE=DATE:20210728
DESCRIPTION:Tickets: https://ticket.wien.gv.at/baeder/hadersdorf-weidlingau
 /5845/\nVeranstalter: MA 44 Wiener Bäder
DTSTAMP:20260426T043742Z
SUMMARY:Eintritt Hadersdorf-Weidlingauer Bad
END:VEVENT
END:VCALENDAR
