BEGIN:VCALENDAR
VERSION:2.0
PRODID:-//pretix//pretix-PROD_Wien//
BEGIN:VEVENT
UID:pretix-baeder-hadersdorf-weidlingau-34018@ticket.wien.gv.at
DTSTART;VALUE=DATE:20230604
DTEND;VALUE=DATE:20230605
DESCRIPTION:Tickets: https://ticket.wien.gv.at/baeder/hadersdorf-weidlingau
 /34018/\nVeranstalter: MA 44 Wiener Bäder
DTSTAMP:20260425T215653Z
SUMMARY:Badegäste Freibad Sa/So
END:VEVENT
END:VCALENDAR
