BEGIN:VCALENDAR
VERSION:2.0
PRODID:-//pretix//pretix-PROD_Wien//
BEGIN:VEVENT
UID:pretix-baeder-hadersdorf-weidlingau-25278@ticket.wien.gv.at
DTSTART;VALUE=DATE:20220917
DTEND;VALUE=DATE:20220918
DESCRIPTION:Tickets: https://ticket.wien.gv.at/baeder/hadersdorf-weidlingau
 /25278/\nVeranstalter: MA 44 Wiener Bäder
DTSTAMP:20260426T035856Z
SUMMARY:Badegäste Freibad Sa/So
END:VEVENT
END:VCALENDAR
