BEGIN:VCALENDAR
VERSION:2.0
PRODID:-//pretix//pretix-PROD_Wien//
BEGIN:VEVENT
UID:pretix-baeder-hadersdorf-weidlingau-25223@ticket.wien.gv.at
DTSTART;VALUE=DATE:20220915
DTEND;VALUE=DATE:20220916
DESCRIPTION:Tickets: https://ticket.wien.gv.at/baeder/hadersdorf-weidlingau
 /25223/\nVeranstalter: MA 44 Wiener Bäder
DTSTAMP:20260425T225459Z
SUMMARY:Badegäste Freibad Mo-Fr
END:VEVENT
END:VCALENDAR
