BEGIN:VCALENDAR
VERSION:2.0
PRODID:-//pretix//pretix-PROD_Wien//
BEGIN:VEVENT
UID:pretix-baeder-hadersdorf-weidlingau-25068@ticket.wien.gv.at
DTSTART;VALUE=DATE:20220909
DTEND;VALUE=DATE:20220910
DESCRIPTION:Tickets: https://ticket.wien.gv.at/baeder/hadersdorf-weidlingau
 /25068/\nVeranstalter: MA 44 Wiener Bäder
DTSTAMP:20260426T033007Z
SUMMARY:Badegäste Freibad Mo-Fr
END:VEVENT
END:VCALENDAR
