BEGIN:VCALENDAR
VERSION:2.0
PRODID:-//pretix//pretix-PROD_Wien//
BEGIN:VEVENT
UID:pretix-baeder-hadersdorf-weidlingau-24603@ticket.wien.gv.at
DTSTART;VALUE=DATE:20220823
DTEND;VALUE=DATE:20220824
DESCRIPTION:Tickets: https://ticket.wien.gv.at/baeder/hadersdorf-weidlingau
 /24603/\nVeranstalter: MA 44 Wiener Bäder
DTSTAMP:20260426T001426Z
SUMMARY:Badegäste Freibad Mo-Fr
END:VEVENT
END:VCALENDAR
