BEGIN:VCALENDAR
VERSION:2.0
PRODID:-//pretix//pretix-PROD_Wien//
BEGIN:VEVENT
UID:pretix-baeder-hadersdorf-weidlingau-24010@ticket.wien.gv.at
DTSTART;VALUE=DATE:20220731
DTEND;VALUE=DATE:20220801
DESCRIPTION:Tickets: https://ticket.wien.gv.at/baeder/hadersdorf-weidlingau
 /24010/\nVeranstalter: MA 44 Wiener Bäder
DTSTAMP:20260425T195229Z
SUMMARY:Badegäste Freibad Sa/So
END:VEVENT
END:VCALENDAR
