BEGIN:VCALENDAR
VERSION:2.0
PRODID:-//pretix//pretix-PROD_Wien//
BEGIN:VEVENT
UID:pretix-baeder-hadersdorf-weidlingau-23934@ticket.wien.gv.at
DTSTART;VALUE=DATE:20220728
DTEND;VALUE=DATE:20220729
DESCRIPTION:Tickets: https://ticket.wien.gv.at/baeder/hadersdorf-weidlingau
 /23934/\nVeranstalter: MA 44 Wiener Bäder
DTSTAMP:20260425T185330Z
SUMMARY:Badegäste Freibad Mo-Fr
END:VEVENT
END:VCALENDAR
