BEGIN:VCALENDAR
VERSION:2.0
PRODID:-//pretix//pretix-PROD_Wien//
BEGIN:VEVENT
UID:pretix-baeder-hadersdorf-weidlingau-23757@ticket.wien.gv.at
DTSTART;VALUE=DATE:20220721
DTEND;VALUE=DATE:20220722
DESCRIPTION:Tickets: https://ticket.wien.gv.at/baeder/hadersdorf-weidlingau
 /23757/\nVeranstalter: MA 44 Wiener Bäder
DTSTAMP:20260426T003654Z
SUMMARY:Badegäste Freibad Mo-Fr
END:VEVENT
END:VCALENDAR
