BEGIN:VCALENDAR
VERSION:2.0
PRODID:-//pretix//pretix-PROD_Wien//
BEGIN:VEVENT
UID:pretix-baeder-hadersdorf-weidlingau-22829@ticket.wien.gv.at
DTSTART;VALUE=DATE:20220618
DTEND;VALUE=DATE:20220619
DESCRIPTION:Tickets: https://ticket.wien.gv.at/baeder/hadersdorf-weidlingau
 /22829/\nVeranstalter: MA 44 Wiener Bäder
DTSTAMP:20260425T191148Z
SUMMARY:Badegäste Freibad Sa/So
END:VEVENT
END:VCALENDAR
