BEGIN:VCALENDAR
VERSION:2.0
PRODID:-//pretix//pretix-PROD_Wien//
BEGIN:VEVENT
UID:pretix-baeder-hadersdorf-weidlingau-22203@ticket.wien.gv.at
DTSTART;VALUE=DATE:20220529
DTEND;VALUE=DATE:20220530
DESCRIPTION:Tickets: https://ticket.wien.gv.at/baeder/hadersdorf-weidlingau
 /22203/\nVeranstalter: MA 44 Wiener Bäder
DTSTAMP:20260426T035857Z
SUMMARY:Badegäste Freibad Sa/So
END:VEVENT
END:VCALENDAR
