BEGIN:VCALENDAR
VERSION:2.0
PRODID:-//pretix//pretix-PROD_Wien//
BEGIN:VEVENT
UID:pretix-baeder-grossfeldsiedlung-80876@ticket.wien.gv.at
DTSTART;VALUE=DATE:20260427
DTEND;VALUE=DATE:20260428
DESCRIPTION:Tickets: https://ticket.wien.gv.at/baeder/grossfeldsiedlung/808
 76/\nVeranstalter: MA 44 Wiener Bäder
DTSTAMP:20260425T212307Z
SUMMARY:Badegäste Frühschwimmen
END:VEVENT
END:VCALENDAR
