BEGIN:VCALENDAR
VERSION:2.0
PRODID:-//pretix//pretix-PROD_Wien//
BEGIN:VEVENT
UID:pretix-baeder-grossfeldsiedlung-80850@ticket.wien.gv.at
DTSTART;VALUE=DATE:20260426
DTEND;VALUE=DATE:20260427
DESCRIPTION:Tickets: https://ticket.wien.gv.at/baeder/grossfeldsiedlung/808
 50/\nVeranstalter: MA 44 Wiener Bäder
DTSTAMP:20260424T011453Z
SUMMARY:Badegäste So
END:VEVENT
END:VCALENDAR
