BEGIN:VCALENDAR
VERSION:2.0
PRODID:-//pretix//pretix-PROD_Wien//
BEGIN:VEVENT
UID:pretix-baeder-grossfeldsiedlung-80837@ticket.wien.gv.at
DTSTART;VALUE=DATE:20260425
DTEND;VALUE=DATE:20260426
DESCRIPTION:Tickets: https://ticket.wien.gv.at/baeder/grossfeldsiedlung/808
 37/\nVeranstalter: MA 44 Wiener Bäder
DTSTAMP:20260423T210607Z
SUMMARY:Badegäste Sa.
END:VEVENT
END:VCALENDAR
