BEGIN:VCALENDAR
VERSION:2.0
PRODID:-//pretix//pretix-PROD_Wien//
BEGIN:VEVENT
UID:pretix-baeder-grossfeldsiedlung-79573@ticket.wien.gv.at
DTSTART;VALUE=DATE:20260313
DTEND;VALUE=DATE:20260314
DESCRIPTION:Tickets: https://ticket.wien.gv.at/baeder/grossfeldsiedlung/795
 73/\nVeranstalter: MA 44 Wiener Bäder
DTSTAMP:20260425T183644Z
SUMMARY:Badegäste Fr.
END:VEVENT
END:VCALENDAR
