BEGIN:VCALENDAR
VERSION:2.0
PRODID:-//pretix//pretix-PROD_Wien//
BEGIN:VEVENT
UID:pretix-baeder-grossfeldsiedlung-79505@ticket.wien.gv.at
DTSTART;VALUE=DATE:20260309
DTEND;VALUE=DATE:20260310
DESCRIPTION:Tickets: https://ticket.wien.gv.at/baeder/grossfeldsiedlung/795
 05/\nVeranstalter: MA 44 Wiener Bäder
DTSTAMP:20260425T185319Z
SUMMARY:Badegäste Mo.
END:VEVENT
END:VCALENDAR
