BEGIN:VCALENDAR
VERSION:2.0
PRODID:-//pretix//pretix-PROD_Wien//
BEGIN:VEVENT
UID:pretix-baeder-grossfeldsiedlung-79362@ticket.wien.gv.at
DTSTART;VALUE=DATE:20260305
DTEND;VALUE=DATE:20260306
DESCRIPTION:Tickets: https://ticket.wien.gv.at/baeder/grossfeldsiedlung/793
 62/\nVeranstalter: MA 44 Wiener Bäder
DTSTAMP:20260425T170826Z
SUMMARY:Badegäste Do.
END:VEVENT
END:VCALENDAR
