BEGIN:VCALENDAR
VERSION:2.0
PRODID:-//pretix//pretix-PROD_Wien//
BEGIN:VEVENT
UID:pretix-baeder-grossfeldsiedlung-79322@ticket.wien.gv.at
DTSTART;VALUE=DATE:20260303
DTEND;VALUE=DATE:20260304
DESCRIPTION:Tickets: https://ticket.wien.gv.at/baeder/grossfeldsiedlung/793
 22/\nVeranstalter: MA 44 Wiener Bäder
DTSTAMP:20260425T201044Z
SUMMARY:Badegäste Di.
END:VEVENT
END:VCALENDAR
