BEGIN:VCALENDAR
VERSION:2.0
PRODID:-//pretix//pretix-PROD_Wien//
BEGIN:VEVENT
UID:pretix-baeder-grossfeldsiedlung-79310@ticket.wien.gv.at
DTSTART;VALUE=DATE:20260302
DTEND;VALUE=DATE:20260303
DESCRIPTION:Tickets: https://ticket.wien.gv.at/baeder/grossfeldsiedlung/793
 10/\nVeranstalter: MA 44 Wiener Bäder
DTSTAMP:20260425T181929Z
SUMMARY:Badegäste Mo.
END:VEVENT
END:VCALENDAR
