BEGIN:VCALENDAR
VERSION:2.0
PRODID:-//pretix//pretix-PROD_Wien//
BEGIN:VEVENT
UID:pretix-baeder-grossfeldsiedlung-77442@ticket.wien.gv.at
DTSTART;VALUE=DATE:20260126
DTEND;VALUE=DATE:20260127
DESCRIPTION:Tickets: https://ticket.wien.gv.at/baeder/grossfeldsiedlung/774
 42/\nVeranstalter: MA 44 Wiener Bäder
DTSTAMP:20260425T191102Z
SUMMARY:Badegäste Mo.
END:VEVENT
END:VCALENDAR
