BEGIN:VCALENDAR
VERSION:2.0
PRODID:-//pretix//pretix-PROD_Wien//
BEGIN:VEVENT
UID:pretix-baeder-grossfeldsiedlung-77336@ticket.wien.gv.at
DTSTART;VALUE=DATE:20260123
DTEND;VALUE=DATE:20260124
DESCRIPTION:Tickets: https://ticket.wien.gv.at/baeder/grossfeldsiedlung/773
 36/\nVeranstalter: MA 44 Wiener Bäder
DTSTAMP:20260425T204159Z
SUMMARY:Badegäste Fr.
END:VEVENT
END:VCALENDAR
