BEGIN:VCALENDAR
VERSION:2.0
PRODID:-//pretix//pretix-PROD_Wien//
BEGIN:VEVENT
UID:pretix-baeder-grossfeldsiedlung-75789@ticket.wien.gv.at
DTSTART;VALUE=DATE:20251208
DTEND;VALUE=DATE:20251209
DESCRIPTION:Tickets: https://ticket.wien.gv.at/baeder/grossfeldsiedlung/757
 89/\nVeranstalter: MA 44 Wiener Bäder
DTSTAMP:20260425T205721Z
SUMMARY:Badegäste Feiertag 08.12.2025
END:VEVENT
END:VCALENDAR
