BEGIN:VCALENDAR
VERSION:2.0
PRODID:-//pretix//pretix-PROD_Wien//
BEGIN:VEVENT
UID:pretix-baeder-grossfeldsiedlung-74526@ticket.wien.gv.at
DTSTART;VALUE=DATE:20251204
DTEND;VALUE=DATE:20251205
DESCRIPTION:Tickets: https://ticket.wien.gv.at/baeder/grossfeldsiedlung/745
 26/\nVeranstalter: MA 44 Wiener Bäder
DTSTAMP:20260425T221732Z
SUMMARY:Badegäste Do.
END:VEVENT
END:VCALENDAR
