BEGIN:VCALENDAR
VERSION:2.0
PRODID:-//pretix//pretix-PROD_Wien//
BEGIN:VEVENT
UID:pretix-baeder-grossfeldsiedlung-74485@ticket.wien.gv.at
DTSTART;VALUE=DATE:20251203
DTEND;VALUE=DATE:20251204
DESCRIPTION:Tickets: https://ticket.wien.gv.at/baeder/grossfeldsiedlung/744
 85/\nVeranstalter: MA 44 Wiener Bäder
DTSTAMP:20260425T170829Z
SUMMARY:Badegäste Mi.
END:VEVENT
END:VCALENDAR
