BEGIN:VCALENDAR
VERSION:2.0
PRODID:-//pretix//pretix-PROD_Wien//
BEGIN:VEVENT
UID:pretix-baeder-grossfeldsiedlung-74466@ticket.wien.gv.at
DTSTART;VALUE=DATE:20251202
DTEND;VALUE=DATE:20251203
DESCRIPTION:Tickets: https://ticket.wien.gv.at/baeder/grossfeldsiedlung/744
 66/\nVeranstalter: MA 44 Wiener Bäder
DTSTAMP:20260425T170820Z
SUMMARY:Badegäste Di.
END:VEVENT
END:VCALENDAR
