BEGIN:VCALENDAR
VERSION:2.0
PRODID:-//pretix//pretix-PROD_Wien//
BEGIN:VEVENT
UID:pretix-baeder-grossfeldsiedlung-74190@ticket.wien.gv.at
DTSTART;VALUE=DATE:20251127
DTEND;VALUE=DATE:20251128
DESCRIPTION:Tickets: https://ticket.wien.gv.at/baeder/grossfeldsiedlung/741
 90/\nVeranstalter: MA 44 Wiener Bäder
DTSTAMP:20260425T185322Z
SUMMARY:Badegäste Do.
END:VEVENT
END:VCALENDAR
