BEGIN:VCALENDAR
VERSION:2.0
PRODID:-//pretix//pretix-PROD_Wien//
BEGIN:VEVENT
UID:pretix-baeder-grossfeldsiedlung-74143@ticket.wien.gv.at
DTSTART;VALUE=DATE:20251126
DTEND;VALUE=DATE:20251127
DESCRIPTION:Tickets: https://ticket.wien.gv.at/baeder/grossfeldsiedlung/741
 43/\nVeranstalter: MA 44 Wiener Bäder
DTSTAMP:20260425T201028Z
SUMMARY:Badegäste Mi.
END:VEVENT
END:VCALENDAR
