BEGIN:VCALENDAR
VERSION:2.0
PRODID:-//pretix//pretix-PROD_Wien//
BEGIN:VEVENT
UID:pretix-baeder-grossfeldsiedlung-74113@ticket.wien.gv.at
DTSTART;VALUE=DATE:20251124
DTEND;VALUE=DATE:20251125
DESCRIPTION:Tickets: https://ticket.wien.gv.at/baeder/grossfeldsiedlung/741
 13/\nVeranstalter: MA 44 Wiener Bäder
DTSTAMP:20260425T215820Z
SUMMARY:Badegäste Mo.
END:VEVENT
END:VCALENDAR
