BEGIN:VCALENDAR
VERSION:2.0
PRODID:-//pretix//pretix-PROD_Wien//
BEGIN:VEVENT
UID:pretix-baeder-grossfeldsiedlung-74025@ticket.wien.gv.at
DTSTART;VALUE=DATE:20251120
DTEND;VALUE=DATE:20251121
DESCRIPTION:Tickets: https://ticket.wien.gv.at/baeder/grossfeldsiedlung/740
 25/\nVeranstalter: MA 44 Wiener Bäder
DTSTAMP:20260425T214430Z
SUMMARY:Badegäste Do.
END:VEVENT
END:VCALENDAR
