BEGIN:VCALENDAR
VERSION:2.0
PRODID:-//pretix//pretix-PROD_Wien//
BEGIN:VEVENT
UID:pretix-baeder-grossfeldsiedlung-74006@ticket.wien.gv.at
DTSTART;VALUE=DATE:20251119
DTEND;VALUE=DATE:20251120
DESCRIPTION:Tickets: https://ticket.wien.gv.at/baeder/grossfeldsiedlung/740
 06/\nVeranstalter: MA 44 Wiener Bäder
DTSTAMP:20260425T185330Z
SUMMARY:Badegäste Mi.
END:VEVENT
END:VCALENDAR
