BEGIN:VCALENDAR
VERSION:2.0
PRODID:-//pretix//pretix-PROD_Wien//
BEGIN:VEVENT
UID:pretix-baeder-grossfeldsiedlung-73988@ticket.wien.gv.at
DTSTART;VALUE=DATE:20251118
DTEND;VALUE=DATE:20251119
DESCRIPTION:Tickets: https://ticket.wien.gv.at/baeder/grossfeldsiedlung/739
 88/\nVeranstalter: MA 44 Wiener Bäder
DTSTAMP:20260425T185313Z
SUMMARY:Badegäste Di.
END:VEVENT
END:VCALENDAR
