BEGIN:VCALENDAR
VERSION:2.0
PRODID:-//pretix//pretix-PROD_Wien//
BEGIN:VEVENT
UID:pretix-baeder-grossfeldsiedlung-73121@ticket.wien.gv.at
DTSTART;VALUE=DATE:20251104
DTEND;VALUE=DATE:20251105
DESCRIPTION:Tickets: https://ticket.wien.gv.at/baeder/grossfeldsiedlung/731
 21/\nVeranstalter: MA 44 Wiener Bäder
DTSTAMP:20260425T170827Z
SUMMARY:Badegäste Di.
END:VEVENT
END:VCALENDAR
