BEGIN:VCALENDAR
VERSION:2.0
PRODID:-//pretix//pretix-PROD_Wien//
BEGIN:VEVENT
UID:pretix-baeder-grossfeldsiedlung-7312@ticket.wien.gv.at
DTSTART;VALUE=DATE:20210927
DTEND;VALUE=DATE:20210928
DESCRIPTION:Tickets: https://ticket.wien.gv.at/baeder/grossfeldsiedlung/731
 2/\nVeranstalter: MA 44 Wiener Bäder
DTSTAMP:20260425T170829Z
SUMMARY:Eintritt Großfeldsiedlungsbad
END:VEVENT
END:VCALENDAR
