BEGIN:VCALENDAR
VERSION:2.0
PRODID:-//pretix//pretix-PROD_Wien//
BEGIN:VEVENT
UID:pretix-baeder-grossfeldsiedlung-73110@ticket.wien.gv.at
DTSTART;VALUE=DATE:20251103
DTEND;VALUE=DATE:20251104
DESCRIPTION:Tickets: https://ticket.wien.gv.at/baeder/grossfeldsiedlung/731
 10/\nVeranstalter: MA 44 Wiener Bäder
DTSTAMP:20260425T195225Z
SUMMARY:Badegäste Mo.
END:VEVENT
END:VCALENDAR
