BEGIN:VCALENDAR
VERSION:2.0
PRODID:-//pretix//pretix-PROD_Wien//
BEGIN:VEVENT
UID:pretix-baeder-grossfeldsiedlung-73094@ticket.wien.gv.at
DTSTART;VALUE=DATE:20251102
DTEND;VALUE=DATE:20251103
DESCRIPTION:Tickets: https://ticket.wien.gv.at/baeder/grossfeldsiedlung/730
 94/\nVeranstalter: MA 44 Wiener Bäder
DTSTAMP:20260425T170826Z
SUMMARY:Badegäste Ferien 02.11.2025
END:VEVENT
END:VCALENDAR
