BEGIN:VCALENDAR
VERSION:2.0
PRODID:-//pretix//pretix-PROD_Wien//
BEGIN:VEVENT
UID:pretix-baeder-grossfeldsiedlung-73031@ticket.wien.gv.at
DTSTART;VALUE=DATE:20251030
DTEND;VALUE=DATE:20251031
DESCRIPTION:Tickets: https://ticket.wien.gv.at/baeder/grossfeldsiedlung/730
 31/\nVeranstalter: MA 44 Wiener Bäder
DTSTAMP:20260425T170824Z
SUMMARY:Badegäste Ferien 30.10.2025
END:VEVENT
END:VCALENDAR
