BEGIN:VCALENDAR
VERSION:2.0
PRODID:-//pretix//pretix-PROD_Wien//
BEGIN:VEVENT
UID:pretix-baeder-grossfeldsiedlung-72974@ticket.wien.gv.at
DTSTART;VALUE=DATE:20251029
DTEND;VALUE=DATE:20251030
DESCRIPTION:Tickets: https://ticket.wien.gv.at/baeder/grossfeldsiedlung/729
 74/\nVeranstalter: MA 44 Wiener Bäder
DTSTAMP:20260425T181952Z
SUMMARY:Badegäste Ferien 29.10.2025
END:VEVENT
END:VCALENDAR
