BEGIN:VCALENDAR
VERSION:2.0
PRODID:-//pretix//pretix-PROD_Wien//
BEGIN:VEVENT
UID:pretix-baeder-grossfeldsiedlung-72964@ticket.wien.gv.at
DTSTART;VALUE=DATE:20251028
DTEND;VALUE=DATE:20251029
DESCRIPTION:Tickets: https://ticket.wien.gv.at/baeder/grossfeldsiedlung/729
 64/\nVeranstalter: MA 44 Wiener Bäder
DTSTAMP:20260425T191149Z
SUMMARY:Badegäste Ferien 28.10.2025
END:VEVENT
END:VCALENDAR
