BEGIN:VCALENDAR
VERSION:2.0
PRODID:-//pretix//pretix-PROD_Wien//
BEGIN:VEVENT
UID:pretix-baeder-grossfeldsiedlung-72911@ticket.wien.gv.at
DTSTART;VALUE=DATE:20251026
DTEND;VALUE=DATE:20251027
DESCRIPTION:Tickets: https://ticket.wien.gv.at/baeder/grossfeldsiedlung/729
 11/\nVeranstalter: MA 44 Wiener Bäder
DTSTAMP:20260425T204145Z
SUMMARY:Badegäste Ferien 26.10.2025
END:VEVENT
END:VCALENDAR
