BEGIN:VCALENDAR
VERSION:2.0
PRODID:-//pretix//pretix-PROD_Wien//
BEGIN:VEVENT
UID:pretix-baeder-grossfeldsiedlung-72867@ticket.wien.gv.at
DTSTART;VALUE=DATE:20251023
DTEND;VALUE=DATE:20251024
DESCRIPTION:Tickets: https://ticket.wien.gv.at/baeder/grossfeldsiedlung/728
 67/\nVeranstalter: MA 44 Wiener Bäder
DTSTAMP:20260425T181951Z
SUMMARY:Badegäste Do.
END:VEVENT
END:VCALENDAR
