BEGIN:VCALENDAR
VERSION:2.0
PRODID:-//pretix//pretix-PROD_Wien//
BEGIN:VEVENT
UID:pretix-baeder-grossfeldsiedlung-7284@ticket.wien.gv.at
DTSTART;VALUE=DATE:20210925
DTEND;VALUE=DATE:20210926
DESCRIPTION:Tickets: https://ticket.wien.gv.at/baeder/grossfeldsiedlung/728
 4/\nVeranstalter: MA 44 Wiener Bäder
DTSTAMP:20260425T201044Z
SUMMARY:Eintritt Großfeldsiedlungsbad
END:VEVENT
END:VCALENDAR
