BEGIN:VCALENDAR
VERSION:2.0
PRODID:-//pretix//pretix-PROD_Wien//
BEGIN:VEVENT
UID:pretix-baeder-grossfeldsiedlung-72630@ticket.wien.gv.at
DTSTART;VALUE=DATE:20251014
DTEND;VALUE=DATE:20251015
DESCRIPTION:Tickets: https://ticket.wien.gv.at/baeder/grossfeldsiedlung/726
 30/\nVeranstalter: MA 44 Wiener Bäder
DTSTAMP:20260425T183631Z
SUMMARY:Badegäste Di.
END:VEVENT
END:VCALENDAR
